BEGIN:VCALENDAR
VERSION:2.0
PRODID:https://github.com/derhansen/sf_event_mgt
METHOD:PUBLISH
BEGIN:VEVENT
UID:541-882@www.dstv-bw.de
CLASS: PUBLIC
SUMMARY:COPILOT - DIE MICROSOFT 365 KI IM KANZLEIALLTAG
DESCRIPTION:Künstliche Intelligenz verändert unsere Arbeitsweisen. Fühlen S
 ie sich abgehängt, weil Sie sich damit noch wenig beschäftigt haben? Oder s
 ind Sie einfach nur neugierig auf die Möglichkeiten, die Microsoft mit dem 
 Copilot mittlerweile bietet?\n\nSie setzen die Standardlizenzen wie Busines
 s Premium oder Microsoft E3/E5 ein? Dann können Sie einige Funktionen schon
  nutzen und damit testen, ob sich die Anschaffung der eigentlichen Copilot-
 Lizenz für Sie lohnen würde und welchen Mehrwert diese bietet.\n\nDas Verfa
 ssen der richtigen Prompts (= Anweisungen) ist essenziell für erfolgreiche 
 Ergebnisse. Lernen Sie, wie Sie mit passenden Formulierungen schnell Erfolg
 e erzielen und diese auch den Kollegen ohne Lizenz zugänglich machen können
 .\n\nDer Datenschutz ist eine der zentralen Fragen beim Einsatz künstlicher
  Intelligenz, deshalb betrachten wir die Verarbeitung Ihrer hochgeladenen D
 aten und Ihrer Anfragen an Copilot ausführlich.\n\nDie Schulung ist auf ein
 e Stunde Dauer angelegt, die zusätzliche halbe Stunde ist für Ihre Fragen v
 orgesehen.
LOCATION:Online-Seminar
DTSTAMP:20260202T101533Z
DTSTART:20261127T100000Z
DTEND:20261127T113000Z
END:VEVENT
END:VCALENDAR
