BEGIN:VCALENDAR
VERSION:2.0
PRODID:https://github.com/derhansen/sf_event_mgt
METHOD:PUBLISH
BEGIN:VEVENT
UID:595-882@www.dstv-bw.de
CLASS: PUBLIC
SUMMARY:CRASHKURS BUCHHALTUNG EINFACH ERKLÄRT
DESCRIPTION:Wer Auszubildende, Quereinsteiger oder neue Mitarbeiter für Buc
 hhaltung begeistert und qualifiziert, investiert in die Zukunft der Kanzlei
  und stärkt zugleich die wirtschaftliche Bildung der jungen Generation. Ger
 ade beim Einstieg stoßen viele Talente auf Hürden: Begriffe wie „Soll und H
 aben“ oder die Logik von doppelter Buchführung und Bilanz wirken oft abschr
 eckend und schwer verständlich.\n\nSchnell entstehen Frust, Unsicherheit, M
 otivationsverlust – manchmal bis zum Ausbildungsabbruch. Dieses Defizit bet
 rifft nicht nur den Nachwuchs, sondern auch Mandanten. Meist sind es Selbst
 ständige und Führungskräfte ohne kaufmännische Ausbildung, die mit ihrer Bu
 chhaltung kämpfen. Die Lösung: Moderne, digitale Lernangebote holen Lernend
 e da ab, wo sie stehen. Verknüpft mit einer innovativen Didaktik, die neue 
 Erklärwege geht, entstehen nachhaltiges Verständnis und echte Aha-Momente. 
 Wer Nachwuchskräfte gewinnen und halten will und Mandanten aktiv unterstütz
 en möchte, profitiert von solchen flexiblen, verständlichen Lernformaten, d
 ie Spaß machen und Lernerfolg bringen. Ein Beispiel dafür ist das Live-Onli
 ne-Training von Steuerberater Dr. Kai Scharff und Hans Peter Rühl.\n\nVon d
 er Einführung in die Buchungslogik bis hin zur BWA-Analyse profitieren alle
  – ob Einsteiger, Fortgeschrittene oder Führungskräfte. Offene Fragerunden 
 sorgen für individuellen Mehrwert. Wer heute und morgen verständlich, digit
 al und motivierend ausbildet, legt den Grundstein für nachhaltigen Erfolg. 
 Investieren Sie mit diesem Online-Seminar in Ihr Team und sichern Sie sich 
 einen Vorsprung – für Ihre Kanzlei und ihre Mandanten!
LOCATION:Online-Seminar
DTSTAMP:20260305T111850Z
DTSTART:20260429T090000Z
DTEND:20260429T103000Z
END:VEVENT
END:VCALENDAR
