BEGIN:VCALENDAR
VERSION:2.0
PRODID:https://github.com/derhansen/sf_event_mgt
METHOD:PUBLISH
BEGIN:VEVENT
UID:536-882@www.dstv-bw.de
CLASS: PUBLIC
SUMMARY:DAS NEUE OUTLOOK – TIPPS UND TRICKS
DESCRIPTION:Nach dem Willen von Microsoft sollte das neue Outlook schon flä
 chendeckend im Einsatz sein – allerdings gibt es so grundlegende Änderungen
 , dass die Nutzung der neuen Version in vielen Fällen noch nicht sinnvoll i
 st.\n\nAllerdings wird das neue Outlook früher oder später kommen! Machen w
 ir uns mit den Unterschieden vertraut und integrieren die nötigen Änderunge
 n im eigenen Arbeitsalltag.\n\nDie Umstellung ist eine gute Gelegenheit, si
 ch die Funktionen von Outlook näher anzusehen und den einen oder anderen Tr
 ick für ein flottes und effizientes Arbeiten umzusetzen. Da Sicherheitsaspe
 kte bei der Umstellung eine große Rolle spielen, sehen wir uns diese an und
  sensibilisieren die Kollegen dafür.\n\nDie Schulung ist auf eine Stunde Da
 uer angelegt, die zusätzliche halbe Stunde ist für Ihre Fragen vorgesehen.
LOCATION:Online-Seminar
DTSTAMP:20260130T162126Z
DTSTART:20260717T100000Z
DTEND:20260717T113000Z
END:VEVENT
END:VCALENDAR
