BEGIN:VCALENDAR
VERSION:2.0
PRODID:https://github.com/derhansen/sf_event_mgt
METHOD:PUBLISH
BEGIN:VEVENT
UID:537-882@www.dstv-bw.de
CLASS: PUBLIC
SUMMARY:DATEIAUSTAUSCH MIT MANDANTEN ÜBER MICROSOFT 365
DESCRIPTION:Viele Dateien lassen sich wesentlich komfortabler über OneDrive
  oder Sharepoint mit Kollegen oder Mandanten teilen als es über E-Mail mögl
 ich ist.\n\nDie großen Vorteile: Alle bearbeiten das gleiche Dokument, das 
 automatisch mit Versionshistorie gespeichert wird. Jeder hat den gleichen S
 tand und kann trotzdem die älteren Versionen einer Datei abrufen. Outlook w
 ird nicht durch große Dateianhänge belastet, da nur noch Links versendet we
 rden. Die Dateien sind überall und auf jedem Gerät erreichbar, solange nich
 t Sicherheitskonfigurationen missachtet werden.\n\nDie Sicherheit des Datei
 austauschs steht im Vordergrund: Der Austausch kann so konfiguriert werden,
  dass der Zugriff nur für bestimmte Personen möglich ist - auch ohne Passwo
 rt.\n\nWir testen die Möglichkeiten des Teilens ausgiebig und gehen auch au
 f ein paar kritische Punkte der OneDrive- und Sharepoint-Nutzung ein, um di
 ese Klippen sicher umschiffen zu können. Die Administration dazu sehen wir 
 uns kurz an, ohne uns zu sehr in die Technik zu vertiefen.\n\nAuch die App 
 DATEV Datenservice für Teams vergleichen wir mit den Möglichkeiten, die One
 Drive und SharePoint von Haus aus mitbringen.\n\nBitte bereiten Sie ein Tes
 tdokument (PDF, Word oder Excel) vor, das Sie testweise teilen können. Die 
 Schulung ist auf eine Stunde Dauer angelegt, die zusätzliche halbe Stunde i
 st für Ihre Fragen vorgesehen.
LOCATION:Online-Seminar
DTSTAMP:20260202T095258Z
DTSTART:20260821T100000Z
DTEND:20260821T113000Z
END:VEVENT
END:VCALENDAR
