BEGIN:VCALENDAR
VERSION:2.0
PRODID:https://github.com/derhansen/sf_event_mgt
METHOD:PUBLISH
BEGIN:VEVENT
UID:584-882@www.dstv-bw.de
CLASS: PUBLIC
SUMMARY:ENTLASTUNGSPRÄMIE FÜR PRAKTIKER
DESCRIPTION:Der Deutsche Bundestag hat am 24.04.2026 im Rahmen der Änderung
  des Einkommensteuergesetzes eine neue steuerfreie Entlastungsprämie (§ 3 N
 r. 11d EStG – neu) beschlossen.\n\nDie Regelung soll Arbeitgebern ermöglich
 en, ihren Arbeitnehmern zur Abmilderung gestiegener Verbraucherpreise steue
 rfreie Leistungen bis zu 1.000 € zu gewähren. Das Inkrafttreten steht noch 
 unter dem Vorbehalt der Zustimmung des Bundesrates sowie der Verkündung im 
 Bundesgesetzblatt. Die nächste planmäßige Sitzung des Bundesrates ist am 08
 .05.2026. Bereits jetzt stellen die Mandanten jedoch zahlreiche Fragen zu d
 em Thema. Im Online-Seminar erhalten Sie zeitnah nach dem Beschluss Antwort
 en auf praxisrelevante Fragestellungen in Lohnabrechnung, Gestaltung und Be
 ratung.\n\nDas Seminar vermittelt in kompakter Form die gesetzlichen Grundl
 agen, Auslegungsfragen und praktische Umsetzung der Entlastungsprämie. Teil
 nehmer erhalten eine sofort anwendbare Orientierung für die Lohnabrechnung 
 und die steuerliche Beratung von Arbeitgebern.\n\nIHR NUTZEN\n\nKlare Einor
 dnung der neuen RechtslageSicherheit bei der praktischen UmsetzungKonkrete 
 Handlungs-empfehlungen für die BeratungVermeidung typischer Fehler in der L
 ohnabrechnung
LOCATION:Online-Seminar
DTSTAMP:20260424T124110Z
DTSTART:20260522T090000Z
DTEND:20260522T100000Z
END:VEVENT
END:VCALENDAR
