BEGIN:VCALENDAR
VERSION:2.0
PRODID:https://github.com/derhansen/sf_event_mgt
METHOD:PUBLISH
BEGIN:VEVENT
UID:535-882@www.dstv-bw.de
CLASS: PUBLIC
SUMMARY:FAMILIENMITGLIEDER IN DER KANZLEI
DESCRIPTION:In vielen Kanzleien arbeiten Familienmitglieder zusammen: Elter
 n mit Kindern, Ehepaare, Geschwister. Die Erfahrungen reichen von „unschlag
 bares Team“ über „Sand im Getriebe“ bis hin zur „Horror-Show“.\n\nWarum das
  so ist? Weil die Fallhöhe größer ist: Läuft es gut, sind Vertrauen und Sta
 bilität kaum zu übertreffen. Läuft es schlecht, wirken Konflikte weit ins P
 rivate hinein – und private Themen zurück ins Berufliche.\n\nDamit Zusammen
 arbeit mit Familienmitgliedern in der Kanzlei gelingt, braucht es klare Spi
 elregeln. Doch wie sehen diese konkret aus? Und wiegehen andere Kanzleien m
 it dieser besonderen Konstellation um?\n\nGenau hier setzt die Online-Veran
 staltung an: Nach einem kurzen Impuls von Zach Davis, in dem er die wichtig
 sten Stolperfallen und Erfolgsfaktoren beleuchtet, sind Sie eingeladen, Ihr
 e eigenen Erfahrungen einzubringen.\n\nIn einem offenen Austausch diskutier
 en wir typische Herausforderungen und erfolgreiche Strategien im Umgang mit
  Familienmitgliedern in der Kanzlei. Zum Abschluss bündelt Herr Davis die w
 ichtigsten Erkenntnisse und ergänzt sie mit praxiserprobten Tipps, die Sie 
 sofort im Alltag umsetzen können.
LOCATION:Online-Seminar
DTSTAMP:20260130T161730Z
DTSTART:20260714T100000Z
DTEND:20260714T113000Z
END:VEVENT
END:VCALENDAR
