BEGIN:VCALENDAR
VERSION:2.0
PRODID:https://github.com/derhansen/sf_event_mgt
METHOD:PUBLISH
BEGIN:VEVENT
UID:538-882@www.dstv-bw.de
CLASS: PUBLIC
SUMMARY:INFORMATIONSFLUT IM GRIFF
DESCRIPTION:Die Menge an verfügbaren Informationen wächst kontinuierlich un
 d kommt aus den unterschiedlichsten Quellen und Richtungen. Dadurch wird es
  zunehmend schwieriger, den Überblick zu behalten – insbesondere wenn es da
 rum geht, die wirklich wichtigen Themen und Zuständigkeiten herauszufiltern
 .\n\nDiese Informationsflut kann schnell überwältigend wirken, denn sie ver
 langt nicht nur Aufmerksamkeit, sondern auch Zeit und Konzentration, um die
  relevanten Inhalte herauszufiltern und sinnvoll zu verarbeiten. Oft fehlt 
 genau diese Zeit, um alle eingehenden Informationen sorgfältig zu sichten u
 nd zu bewerten.\n\nWie Sie diese Herausforderung besser meistern und Ihre I
 nformationsflut effizienter bewältigen können, erfahren Sie in unserem Semi
 nar. Dort zeigen wir Ihnen praxisnahe Methoden und Strategien, mit denen Si
 e den Überblick behalten, Prioritäten setzen und Ihre Arbeitszeit sinnvoll 
 nutzen können.
LOCATION:Online-Seminar
DTSTAMP:20260202T095942Z
DTSTART:20261008T100000Z
DTEND:20261008T123000Z
END:VEVENT
END:VCALENDAR
