BEGIN:VCALENDAR
VERSION:2.0
PRODID:https://github.com/derhansen/sf_event_mgt
METHOD:PUBLISH
BEGIN:VEVENT
UID:539-882@www.dstv-bw.de
CLASS: PUBLIC
SUMMARY:LOOP - DAS NEUE NOTIZENTOOL IN MS365
DESCRIPTION:Loop – das neue Notizentool in MS365 – bietet gegenüber dem kla
 ssischen OneNote einige entscheidende Vorteile: nicht nur ganze Bereiche kö
 nnen mit anderen gemeinsam bearbeitet werden, sondern auch einzelne Seiten 
 oder Schnipsel. Die Elemente können in weitere Dokumente wie in ein Wordfil
 e, in E-Mails oder in einem Teams-Kanal eingebettet und von dort aus direkt
  bearbeitet werden. In Echtzeit wird die Änderung auch im Loop-Arbeitsberei
 ch sichtbar.\n\nAußerdem ist Loop eng mit Microsofts KI, dem Copilot, verkn
 üpft: Auswertungen speichert Copilot direkt im Arbeitsbereich, der dann gem
 einsam weiter bearbeitet werden kann.\n\nEs gibt allerdings auch einige Pun
 kte, die man bei der Arbeit mit Loop berücksichtigen sollte: die Anlage im 
 richtigen Speicherbereich ist etwas kniffelig und auch die Geschwindigkeit 
 kann den Spaß am Arbeiten mit dem Tool verleiden. Natürlich gibt es auch da
 zu Abhilfen…\n\nDie Schulung ist auf eine Stunde Dauer angelegt, die zusätz
 liche halbe Stunde ist für Ihre Fragen vorgesehen.
LOCATION:Online-Seminar
DTSTAMP:20260202T100642Z
DTSTART:20261009T100000Z
DTEND:20261009T113000Z
END:VEVENT
END:VCALENDAR
