BEGIN:VCALENDAR
VERSION:2.0
PRODID:https://github.com/derhansen/sf_event_mgt
METHOD:PUBLISH
BEGIN:VEVENT
UID:534-882@www.dstv-bw.de
CLASS: PUBLIC
SUMMARY:UMFRAGEN & INTERAKTIONEN MIT MICROSOFT 365
DESCRIPTION:Sie möchten von Ihren Mandanten Informationen über Newsletter e
 inholen? Ihre Mandanten-Informationsabende sollen durch Live-Umfragen eine 
 lockere Stimmung erhalten? Oder möchten Sie Mitarbeitern ermöglichen, ihr W
 issen zu einem Thema durch ein Quiz zu prüfen?\n\nIn all diesen Fällen biet
 et Microsoft 365 mit den Apps Forms und Polls Möglichkeiten, Meinungen oder
  Informationen komfortabel und einfach einzuholen. Die Einrichtung nehmen S
 ie zentral in der Microsoft Oberfläche vor - egal wie Sie die Umfrage verwe
 nden. Die Ergebnisse können Sie entweder live mit ansprechenden Diagrammen 
 während der Veranstaltung bekanntgeben oder später über eine Excel-Tabelle 
 in aller Ruhe auswerten.\n\nDie Einsatzmöglichkeiten der beiden Tools sind 
 so vielfältig wie Ihre Wünsche, was Sie über Umfragen erfahren möchten. Die
  App ist bei jeder Business- oder Enterprise-Lizenz im Paket inbegriffen. I
 n der Schulung sehen wir uns ausführlich an, wie Sie Umfragen einrichten un
 d veröffentlichen können, welche Gestaltungsmöglichkeiten Ihnen angeboten w
 erden und auch, was nicht geht.\n\nDie Schulung ist auf eine Stunde Dauer a
 ngelegt, die zusätzliche halbe Stunde ist für Ihre Fragen vorgesehen.
LOCATION:Online-Seminar
DTSTAMP:20260130T154946Z
DTSTART:20260619T100000Z
DTEND:20260619T113000Z
END:VEVENT
END:VCALENDAR
